BEGIN:VCALENDAR
PRODID:-//github.com/rianjs/ical.net//NONSGML ical.net 4.0//EN
VERSION:2.0
BEGIN:VTIMEZONE
TZID:America/New_York
X-LIC-LOCATION:America/New_York
BEGIN:STANDARD
DTSTART:20241103T020000
RRULE:FREQ=YEARLY;BYDAY=1SU;BYMONTH=11
TZNAME:EST
TZOFFSETFROM:-0400
TZOFFSETTO:-0500
END:STANDARD
BEGIN:DAYLIGHT
DTSTART:20250309T020000
RRULE:FREQ=YEARLY;BYDAY=2SU;BYMONTH=3
TZNAME:EDT
TZOFFSETFROM:-0500
TZOFFSETTO:-0400
END:DAYLIGHT
END:VTIMEZONE
BEGIN:VEVENT
CLASS:PUBLIC
CREATED:20260423T042941Z
DESCRIPTION:\n https://publicinput.com/A24525
DTEND;TZID=America/New_York:20260520T193000
DTSTAMP:20260423T042941Z
DTSTART;TZID=America/New_York:20260520T180000
LOCATION:The City of North Charleston Athletic Center\, Casper Padgett Way
 \, North Charleston\, SC\, USA
SEQUENCE:0
SUMMARY:Aviation/Remount Open House
UID:89710886-bfa0-4d4a-8aef-78f263d08d9c
END:VEVENT
END:VCALENDAR
