BEGIN:VCALENDAR
PRODID:-//github.com/rianjs/ical.net//NONSGML ical.net 4.0//EN
VERSION:2.0
BEGIN:VTIMEZONE
TZID:America/New_York
X-LIC-LOCATION:America/New_York
BEGIN:STANDARD
DTSTART:20241103T020000
RRULE:FREQ=YEARLY;BYDAY=1SU;BYMONTH=11
TZNAME:EST
TZOFFSETFROM:-0400
TZOFFSETTO:-0500
END:STANDARD
BEGIN:DAYLIGHT
DTSTART:20250309T020000
RRULE:FREQ=YEARLY;BYDAY=2SU;BYMONTH=3
TZNAME:EDT
TZOFFSETFROM:-0500
TZOFFSETTO:-0400
END:DAYLIGHT
END:VTIMEZONE
BEGIN:VEVENT
CLASS:PUBLIC
CREATED:20260423T075858Z
DESCRIPTION:The Early Childhood Education and Development Committee s May 
 meeting is an extended work session. The session is open to the public bu
 t will not be livestreamed. The purpose of the Committee is to engage wit
 h community partners solicit public input and make policy and funding rec
 ommendations to the Board of Commissioners for Buncombe County s Early Ch
 ildhood Education and Development Fund.\n https://publicinput.com/A85040
DTEND;TZID=America/New_York:20260505T143000
DTSTAMP:20260423T075858Z
DTSTART;TZID=America/New_York:20260505T120000
LOCATION:200 College Street room 310\, Asheville\, NC\, USA
SEQUENCE:0
SUMMARY:Early Childhood and Development Committee Meeting: May 5\, 2025
UID:c045c2c9-d7cd-47f6-a2d9-69c4d21fc814
END:VEVENT
END:VCALENDAR
