BEGIN:VCALENDAR
PRODID:-//github.com/rianjs/ical.net//NONSGML ical.net 4.0//EN
VERSION:2.0
BEGIN:VTIMEZONE
TZID:America/Chicago
X-LIC-LOCATION:America/Chicago
BEGIN:STANDARD
DTSTART:20241103T020000
RRULE:FREQ=YEARLY;BYDAY=1SU;BYMONTH=11
TZNAME:CST
TZOFFSETFROM:-0500
TZOFFSETTO:-0600
END:STANDARD
BEGIN:DAYLIGHT
DTSTART:20250309T020000
RRULE:FREQ=YEARLY;BYDAY=2SU;BYMONTH=3
TZNAME:CDT
TZOFFSETFROM:-0600
TZOFFSETTO:-0500
END:DAYLIGHT
END:VTIMEZONE
BEGIN:VEVENT
CLASS:PUBLIC
CREATED:20260423T105319Z
DESCRIPTION:\n https://publicinput.com/CG6346
DTEND;TZID=America/Chicago:20260716T150000
DTSTAMP:20260423T105319Z
DTSTART;TZID=America/Chicago:20260716T133000
LOCATION:
SEQUENCE:0
SUMMARY: Air North Texas Coalition
UID:46aca982-ed13-46cb-903f-eb8ae9f91182
END:VEVENT
END:VCALENDAR
