BEGIN:VCALENDAR
PRODID:-//github.com/rianjs/ical.net//NONSGML ical.net 4.0//EN
VERSION:2.0
BEGIN:VTIMEZONE
TZID:America/Chicago
X-LIC-LOCATION:America/Chicago
BEGIN:STANDARD
DTSTART:20241103T020000
RRULE:FREQ=YEARLY;BYDAY=1SU;BYMONTH=11
TZNAME:CST
TZOFFSETFROM:-0500
TZOFFSETTO:-0600
END:STANDARD
BEGIN:DAYLIGHT
DTSTART:20250309T020000
RRULE:FREQ=YEARLY;BYDAY=2SU;BYMONTH=3
TZNAME:CDT
TZOFFSETFROM:-0600
TZOFFSETTO:-0500
END:DAYLIGHT
END:VTIMEZONE
BEGIN:VEVENT
CLASS:PUBLIC
CREATED:20260422T214539Z
DESCRIPTION:Join us for an open house event to learn about the plan share 
 what s working and what isn t and help guide planners as they chart a cou
 rse for the hear of the city. Long Center Kodosky Donor Lounge Wednesday 
 April 22 2026 from 4:30 - 7:30 pm 701 W. Riverside Drive Austin Texas 787
 04 Accessible by CapMetro services & FREE parking available\n https://pub
 licinput.com/F73521
DTEND;TZID=America/Chicago:20260422T193000
DTSTAMP:20260422T214539Z
DTSTART;TZID=America/Chicago:20260422T163000
LOCATION:The Long Center for the Performing Arts\, West Riverside Drive\, 
 Austin\, TX\, USA
SEQUENCE:0
SUMMARY:Central City District Open House — April 22\, 2026
UID:02d450b4-b061-447d-b268-7de7907d51a7
END:VEVENT
END:VCALENDAR
