BEGIN:VCALENDAR
PRODID:-//github.com/rianjs/ical.net//NONSGML ical.net 4.0//EN
VERSION:2.0
BEGIN:VTIMEZONE
TZID:America/Chicago
X-LIC-LOCATION:America/Chicago
BEGIN:STANDARD
DTSTART:20241103T020000
RRULE:FREQ=YEARLY;BYDAY=1SU;BYMONTH=11
TZNAME:CST
TZOFFSETFROM:-0500
TZOFFSETTO:-0600
END:STANDARD
BEGIN:DAYLIGHT
DTSTART:20250309T020000
RRULE:FREQ=YEARLY;BYDAY=2SU;BYMONTH=3
TZNAME:CDT
TZOFFSETFROM:-0600
TZOFFSETTO:-0500
END:DAYLIGHT
END:VTIMEZONE
BEGIN:VEVENT
CLASS:PUBLIC
CREATED:20260421T113629Z
DESCRIPTION:Join Martin Starrett Commercial Building Inspections Division 
 Manager as he provides an in-depth review of the 2026 National Electrical
  Code. Session 2 will review Chapter 2 Articles 200-270: Wiring and Prote
 ction. Follow this link to register.\n https://publicinput.com/J35482
DTEND;TZID=America/Chicago:20260508T120000
DTSTAMP:20260421T113629Z
DTSTART;TZID=America/Chicago:20260508T110000
LOCATION:
SEQUENCE:0
SUMMARY:2026 NEC Changes: A Deep Dive into the National Electrical Code\, 
 Ch. 2
UID:e6394163-8450-44d5-a3fc-0ed4ca9d02b6
END:VEVENT
END:VCALENDAR
