BEGIN:VCALENDAR
PRODID:-//github.com/rianjs/ical.net//NONSGML ical.net 4.0//EN
VERSION:2.0
BEGIN:VTIMEZONE
TZID:America/Los_Angeles
X-LIC-LOCATION:America/Los_Angeles
BEGIN:STANDARD
DTSTART:20241103T020000
RRULE:FREQ=YEARLY;BYDAY=1SU;BYMONTH=11
TZNAME:PST
TZOFFSETFROM:-0700
TZOFFSETTO:-0800
END:STANDARD
BEGIN:DAYLIGHT
DTSTART:20250309T020000
RRULE:FREQ=YEARLY;BYDAY=2SU;BYMONTH=3
TZNAME:PDT
TZOFFSETFROM:-0800
TZOFFSETTO:-0700
END:DAYLIGHT
END:VTIMEZONE
BEGIN:VEVENT
CLASS:PUBLIC
CREATED:20260425T003120Z
DESCRIPTION:You re invited! Join Caltrans for an in-person public scoping 
 meeting held during the Notice of Preparation (NOP) 30-day public comment
  period for the Draft Environmental Impact Report (EIR). This open house 
 style meeting is designed to support early public engagement and gather i
 nput to help guide development of the Draft EIR. Although no formal prese
 ntation will be provided attendees will have the opportunity to meet with
  the project team ask questions and provide verbal and written comments.\
 n https://publicinput.com/JS1851
DTEND;TZID=America/Los_Angeles:20260513T193000
DTSTAMP:20260425T003120Z
DTSTART;TZID=America/Los_Angeles:20260513T180000
LOCATION:South Oceanside Elementary School\, S Horne St\, Oceanside\, CA\,
  USA
SEQUENCE:0
SUMMARY: I-5/SR-78 Interchange Improvements Project: Public Scoping Meeting
UID:bccedfbc-ea81-4684-9b5d-bb4c6473e842
END:VEVENT
END:VCALENDAR
