BEGIN:VCALENDAR
PRODID:-//github.com/rianjs/ical.net//NONSGML ical.net 4.0//EN
VERSION:2.0
BEGIN:VTIMEZONE
TZID:America/Chicago
X-LIC-LOCATION:America/Chicago
BEGIN:STANDARD
DTSTART:20241103T020000
RRULE:FREQ=YEARLY;BYDAY=1SU;BYMONTH=11
TZNAME:CST
TZOFFSETFROM:-0500
TZOFFSETTO:-0600
END:STANDARD
BEGIN:DAYLIGHT
DTSTART:20250309T020000
RRULE:FREQ=YEARLY;BYDAY=2SU;BYMONTH=3
TZNAME:CDT
TZOFFSETFROM:-0600
TZOFFSETTO:-0500
END:DAYLIGHT
END:VTIMEZONE
BEGIN:VEVENT
CLASS:PUBLIC
CREATED:20260421T113448Z
DESCRIPTION:Join Martin Starrett Commercial Building Inspections Division 
 Manager as he provides an in-depth review of the 2026 National Electrical
  Code. Session 7 reviews Chapter 7 - Specific Conditions and Systems Chap
 ter 8 - Communication Systems and Chapter 9 - Tables and Annexes. Follow 
 this link to register.\n https://publicinput.com/K10513
DTEND;TZID=America/Chicago:20260529T120000
DTSTAMP:20260421T113448Z
DTSTART;TZID=America/Chicago:20260529T110000
LOCATION:
SEQUENCE:0
SUMMARY:2026 NEC Changes: A Deep Dive into the National Electrical Code\, 
 Chs. 7-9
UID:69f40a38-fc48-4469-8b9c-dfa8b2953c63
END:VEVENT
END:VCALENDAR
