BEGIN:VCALENDAR
PRODID:-//github.com/rianjs/ical.net//NONSGML ical.net 4.0//EN
VERSION:2.0
BEGIN:VTIMEZONE
TZID:America/Chicago
X-LIC-LOCATION:America/Chicago
BEGIN:STANDARD
DTSTART:20241103T020000
RRULE:FREQ=YEARLY;BYDAY=1SU;BYMONTH=11
TZNAME:CST
TZOFFSETFROM:-0500
TZOFFSETTO:-0600
END:STANDARD
BEGIN:DAYLIGHT
DTSTART:20250309T020000
RRULE:FREQ=YEARLY;BYDAY=2SU;BYMONTH=3
TZNAME:CDT
TZOFFSETFROM:-0600
TZOFFSETTO:-0500
END:DAYLIGHT
END:VTIMEZONE
BEGIN:VEVENT
CLASS:PUBLIC
CREATED:20260420T153822Z
DESCRIPTION:Building codes play a critical role in protecting health safet
 y and welfare. Learn how they shape the spaces where we live work learn a
 nd play. Register here: Zoom Registration\n https://publicinput.com/L8802
 3
DTEND;TZID=America/Chicago:20260521T130000
DTSTAMP:20260420T153822Z
DTSTART;TZID=America/Chicago:20260521T110000
LOCATION:Online - Zoom
SEQUENCE:0
SUMMARY:Building Safety Month: The Role of Building Codes in Safety (05/21
 /26)
UID:9b018621-5281-4380-b5d5-cd502a9c1c81
END:VEVENT
END:VCALENDAR
