BEGIN:VCALENDAR
PRODID:-//github.com/rianjs/ical.net//NONSGML ical.net 4.0//EN
VERSION:2.0
BEGIN:VTIMEZONE
TZID:America/New_York
X-LIC-LOCATION:America/New_York
BEGIN:STANDARD
DTSTART:20241103T020000
RRULE:FREQ=YEARLY;BYDAY=1SU;BYMONTH=11
TZNAME:EST
TZOFFSETFROM:-0400
TZOFFSETTO:-0500
END:STANDARD
BEGIN:DAYLIGHT
DTSTART:20250309T020000
RRULE:FREQ=YEARLY;BYDAY=2SU;BYMONTH=3
TZNAME:EDT
TZOFFSETFROM:-0500
TZOFFSETTO:-0400
END:DAYLIGHT
END:VTIMEZONE
BEGIN:VEVENT
CLASS:PUBLIC
CREATED:20260421T174325Z
DESCRIPTION:REGISTRATION FOR THIS EVENT HAS CLOSED. BE SURE TO LOOKOUT FOR
  FUTURE EVENTS! Join Mecklenburg County s Historic Landmarks Department f
 or a bike tour of Charlotte s transportation history. The bike tour will 
 be approximately 9 miles and will begin and end at the Square in Uptown C
 harlotte. Riders are encouraged to walk bike and/or take public transit t
 o the starting point. The tour will stretch from Southend through Uptown 
 and into Noda. Along the way we will see and discuss the old Seaboard Air
  Line Railroad Station the Norfolk Southern Rail Yard and how roads train
 s and streetcars shaped the Queen City. We will meet on the Square at Tra
 de and Tryon Streets. HELMETS ARE REQUIRED Questions? Contact the Histori
 c Landmarks Department . Disclaimer: You are participating in a public ev
 ent sponsored by Mecklenburg County where pictures will be taken. The Cou
 nty reserves the right to use any photograph or video taken at any event 
 sponsored by the County in support of Mecklenburg County business and ser
 vices. By your participation you agree that any picture or likeness tak e
 n of you during the event may be used in the discretion of the County for
  that purpose.\n https://publicinput.com/NH5747
DTEND;TZID=America/New_York:20260503T160000
DTSTAMP:20260421T174325Z
DTSTART;TZID=America/New_York:20260503T140000
LOCATION:Uptown Charlotte at the Square: Tryon and Trade Streets
SEQUENCE:0
SUMMARY:Charlotte Transportation History Bike Tour
UID:e8c74878-24a4-476b-a44e-c38d3ac56772
END:VEVENT
END:VCALENDAR
