BEGIN:VCALENDAR
PRODID:-//github.com/rianjs/ical.net//NONSGML ical.net 4.0//EN
VERSION:2.0
BEGIN:VTIMEZONE
TZID:America/New_York
X-LIC-LOCATION:America/New_York
BEGIN:STANDARD
DTSTART:20241103T020000
RRULE:FREQ=YEARLY;BYDAY=1SU;BYMONTH=11
TZNAME:EST
TZOFFSETFROM:-0400
TZOFFSETTO:-0500
END:STANDARD
BEGIN:DAYLIGHT
DTSTART:20250309T020000
RRULE:FREQ=YEARLY;BYDAY=2SU;BYMONTH=3
TZNAME:EDT
TZOFFSETFROM:-0500
TZOFFSETTO:-0400
END:DAYLIGHT
END:VTIMEZONE
BEGIN:VEVENT
CLASS:PUBLIC
CREATED:20260423T042942Z
DESCRIPTION:\n https://publicinput.com/NJ1302
DTEND;TZID=America/New_York:20260519T193000
DTSTAMP:20260423T042942Z
DTSTART;TZID=America/New_York:20260519T180000
LOCATION:Keith Summey North Charleston Library\, Rivers Avenue\, North Cha
 rleston\, SC\, USA
SEQUENCE:0
SUMMARY:Reynold Avenue Open House
UID:3fb2b812-daa3-4002-97e7-a9cc56ceb9fd
END:VEVENT
END:VCALENDAR
