BEGIN:VCALENDAR
PRODID:-//github.com/rianjs/ical.net//NONSGML ical.net 4.0//EN
VERSION:2.0
BEGIN:VTIMEZONE
TZID:America/New_York
X-LIC-LOCATION:America/New_York
BEGIN:STANDARD
DTSTART:20241103T020000
RRULE:FREQ=YEARLY;BYDAY=1SU;BYMONTH=11
TZNAME:EST
TZOFFSETFROM:-0400
TZOFFSETTO:-0500
END:STANDARD
BEGIN:DAYLIGHT
DTSTART:20250309T020000
RRULE:FREQ=YEARLY;BYDAY=2SU;BYMONTH=3
TZNAME:EDT
TZOFFSETFROM:-0500
TZOFFSETTO:-0400
END:DAYLIGHT
END:VTIMEZONE
BEGIN:VEVENT
CLASS:PUBLIC
CREATED:20260423T080541Z
DESCRIPTION:\n https://publicinput.com/P31562
DTEND;TZID=America/New_York:20260915T173000
DTSTAMP:20260423T080541Z
DTSTART;TZID=America/New_York:20260915T153000
LOCATION:35 Woodfin Street\, Basement Board Room\,  Asheville\, NC\, USA
SEQUENCE:0
SUMMARY:Board of Elections Meeting: Sept. 15\, 2026
UID:8af57a95-796d-4357-9968-5695cc5a6794
END:VEVENT
END:VCALENDAR
