BEGIN:VCALENDAR
PRODID:-//github.com/rianjs/ical.net//NONSGML ical.net 4.0//EN
VERSION:2.0
BEGIN:VTIMEZONE
TZID:America/New_York
X-LIC-LOCATION:America/New_York
BEGIN:STANDARD
DTSTART:20241103T020000
RRULE:FREQ=YEARLY;BYDAY=1SU;BYMONTH=11
TZNAME:EST
TZOFFSETFROM:-0400
TZOFFSETTO:-0500
END:STANDARD
BEGIN:DAYLIGHT
DTSTART:20250309T020000
RRULE:FREQ=YEARLY;BYDAY=2SU;BYMONTH=3
TZNAME:EDT
TZOFFSETFROM:-0500
TZOFFSETTO:-0400
END:DAYLIGHT
END:VTIMEZONE
BEGIN:VEVENT
CLASS:PUBLIC
CREATED:20260424T090603Z
DESCRIPTION:The City of Hendersonville invites the community to attend and
  participate in the 2026 Hendersonville Housing Summit. This free event w
 ill take place on Wednesday May 27 2026 from 5:30 PM to 7:00 PM at the He
 ndersonville High School auditorium located at 1 Bearcat Blvd. The evenin
 g will feature an unveiling of the City of Hendersonville s community-dri
 ven Strategic Housing Plan an overview of new housing initiatives and an 
 opportunity to provide input to strengthen collaboration around housing a
 ffordability challenges. The summit is free and open to non-profit servic
 e providers business representatives government leaders developers lender
 s affordable housing advocates community members and anyone committed to 
 expanding and improving housing in Henderson County and across Western No
 rth Carolina. This is the second housing summit hosted by the City of Hen
 dersonville. The inaugural summit was held in 2024 as a kick-off for loca
 l government strategic housing planning efforts. Hendersonville High Scho
 ol has been a key collaborator in making the summits possible. The City s
  Strategic Housing Plan was developed with guidance from City Council and
  a volunteer steering committee made up of community stakeholders and hou
 sing providers. The plan was informed by the UNC School of Government s D
 evelopment Finance Initiative (DFI) housing needs assessment affordable h
 ousing expert Shane Phillips and extensive community input from Henderson
  County residents. Funding for the plan was provided through a grant from
  Dogwood Health Trust. For updates about the summit and more information 
 on the City of Hendersonville s Strategic Housing Plan visit: www.hvlnc.g
 ov/housingplan\n https://publicinput.com/PB8523
DTEND;TZID=America/New_York:20260527T190000
DTSTAMP:20260424T090603Z
DTSTART;TZID=America/New_York:20260527T173000
LOCATION:Hendersonville High School\, Bearcat Boulevard\, Hendersonville\,
  NC\, USA
SEQUENCE:0
SUMMARY:Hendersonville Housing Summit
UID:f32f78a3-57ae-4fb9-aba4-d1591abc077c
END:VEVENT
END:VCALENDAR
