BEGIN:VCALENDAR
PRODID:-//github.com/rianjs/ical.net//NONSGML ical.net 4.0//EN
VERSION:2.0
BEGIN:VTIMEZONE
TZID:America/New_York
X-LIC-LOCATION:America/New_York
BEGIN:STANDARD
DTSTART:20241103T020000
RRULE:FREQ=YEARLY;BYDAY=1SU;BYMONTH=11
TZNAME:EST
TZOFFSETFROM:-0400
TZOFFSETTO:-0500
END:STANDARD
BEGIN:DAYLIGHT
DTSTART:20250309T020000
RRULE:FREQ=YEARLY;BYDAY=2SU;BYMONTH=3
TZNAME:EDT
TZOFFSETFROM:-0500
TZOFFSETTO:-0400
END:DAYLIGHT
END:VTIMEZONE
BEGIN:VEVENT
CLASS:PUBLIC
CREATED:20260423T080152Z
DESCRIPTION:\n https://publicinput.com/R31178
DTEND;TZID=America/New_York:20270112T140000
DTSTAMP:20260423T080152Z
DTSTART;TZID=America/New_York:20270112T120000
LOCATION:46 Valley Street\, Asheville\, NC\, USA
SEQUENCE:0
SUMMARY:Parks & Recreation Advisory Board Meeting: Jan. 12\, 2027
UID:9d7cd1e3-16c0-4d9e-a8a7-fbb56e564f66
END:VEVENT
END:VCALENDAR
