BEGIN:VCALENDAR
PRODID:-//github.com/rianjs/ical.net//NONSGML ical.net 4.0//EN
VERSION:2.0
BEGIN:VTIMEZONE
TZID:America/New_York
X-LIC-LOCATION:America/New_York
BEGIN:STANDARD
DTSTART:20241103T020000
RRULE:FREQ=YEARLY;BYDAY=1SU;BYMONTH=11
TZNAME:EST
TZOFFSETFROM:-0400
TZOFFSETTO:-0500
END:STANDARD
BEGIN:DAYLIGHT
DTSTART:20250309T020000
RRULE:FREQ=YEARLY;BYDAY=2SU;BYMONTH=3
TZNAME:EDT
TZOFFSETFROM:-0500
TZOFFSETTO:-0400
END:DAYLIGHT
END:VTIMEZONE
BEGIN:VEVENT
CLASS:PUBLIC
CREATED:20260423T080302Z
DESCRIPTION:To submit a public comment to the Planning Board for considera
 tion please email your comment to planninginfo@buncombecounty.org .\n htt
 ps://publicinput.com/S18102
DTEND;TZID=America/New_York:20260921T113000
DTSTAMP:20260423T080302Z
DTSTART;TZID=America/New_York:20260921T093000
LOCATION:35 Woodfin Street\, basement boardroom\, Asheville\, NC\, USA
SEQUENCE:0
SUMMARY:Planning Board Meeting: Sept. 21\, 2026
UID:02bf4d46-6a4c-4359-8384-8083e4f32c0b
END:VEVENT
END:VCALENDAR
