BEGIN:VCALENDAR
PRODID:-//github.com/rianjs/ical.net//NONSGML ical.net 4.0//EN
VERSION:2.0
BEGIN:VTIMEZONE
TZID:America/New_York
X-LIC-LOCATION:America/New_York
BEGIN:STANDARD
DTSTART:20241103T020000
RRULE:FREQ=YEARLY;BYDAY=1SU;BYMONTH=11
TZNAME:EST
TZOFFSETFROM:-0400
TZOFFSETTO:-0500
END:STANDARD
BEGIN:DAYLIGHT
DTSTART:20250309T020000
RRULE:FREQ=YEARLY;BYDAY=2SU;BYMONTH=3
TZNAME:EDT
TZOFFSETFROM:-0500
TZOFFSETTO:-0400
END:DAYLIGHT
END:VTIMEZONE
BEGIN:VEVENT
CLASS:PUBLIC
CREATED:20260423T042941Z
DESCRIPTION:\n https://publicinput.com/S34077
DTEND;TZID=America/New_York:20260520T210000
DTSTAMP:20260423T042941Z
DTSTART;TZID=America/New_York:20260520T190000
LOCATION:Ferndale Community Center\, 1995 Bolton St\, North Charleston\, S
 C 29406\, USA
SEQUENCE:0
SUMMARY:Mall Drive Open House
UID:2279426f-bec2-478a-8c15-47e0438d9f77
END:VEVENT
END:VCALENDAR
