BEGIN:VCALENDAR
PRODID:-//github.com/rianjs/ical.net//NONSGML ical.net 4.0//EN
VERSION:2.0
BEGIN:VTIMEZONE
TZID:America/Chicago
X-LIC-LOCATION:America/Chicago
BEGIN:STANDARD
DTSTART:20241103T020000
RRULE:FREQ=YEARLY;BYDAY=1SU;BYMONTH=11
TZNAME:CST
TZOFFSETFROM:-0500
TZOFFSETTO:-0600
END:STANDARD
BEGIN:DAYLIGHT
DTSTART:20250309T020000
RRULE:FREQ=YEARLY;BYDAY=2SU;BYMONTH=3
TZNAME:CDT
TZOFFSETFROM:-0600
TZOFFSETTO:-0500
END:DAYLIGHT
END:VTIMEZONE
BEGIN:VEVENT
CLASS:PUBLIC
CREATED:20260421T113300Z
DESCRIPTION:Join Martin Starrett Commercial Building Inspections Division 
 Manager as he provides an in-depth review of the 2026 National Electrical
  Code. The first session will review the Introduction and Chapter 1 Artic
 les 100-130. Follow this link to register.\n https://publicinput.com/TL21
 36
DTEND;TZID=America/Chicago:20260504T120000
DTSTAMP:20260421T113300Z
DTSTART;TZID=America/Chicago:20260504T110000
LOCATION:
SEQUENCE:0
SUMMARY:2026 NEC Changes: A Deep Dive into the National Electrical Code\, 
 Intro & Ch. 1
UID:91a7b37c-4608-4aed-9b61-cc0b8535f931
END:VEVENT
END:VCALENDAR
